BEGIN:VCALENDAR
VERSION:2.0
PRODID:-//Drupal iCal API//EN
X-WR-CALNAME:Events items teaser
X-WR-TIMEZONE:America/Toronto
BEGIN:VTIMEZONE
TZID:America/Toronto
X-LIC-LOCATION:America/Toronto
BEGIN:DAYLIGHT
TZNAME:EDT
TZOFFSETFROM:-0500
TZOFFSETTO:-0400
DTSTART:20070311T070000
END:DAYLIGHT
BEGIN:STANDARD
TZNAME:EST
TZOFFSETFROM:-0400
TZOFFSETTO:-0500
DTSTART:20061029T060000
END:STANDARD
END:VTIMEZONE
BEGIN:VEVENT
UID:69b6febc7d42a
DTSTART;TZID=America/Toronto:20070511T123000
SEQUENCE:0
TRANSP:TRANSPARENT
DTEND;TZID=America/Toronto:20070511T123000
URL:https://uwaterloo.ca/artificial-intelligence-group/events/ai-seminar-su
 bjective-mapping
LOCATION:DC - William G. Davis Computer Research Centre 200 University Aven
 ue West 2306C (AI lab) Waterloo ON N2L 3G1 Canada
SUMMARY:AI seminar: Subjective mapping
CLASS:PUBLIC
DESCRIPTION:Speaker: Dana Wilkinson\n\nIn a variety of domains it is desira
 ble to learn a representation of\nan environment defined by a stream of se
 nsori-motor experience. In\nmany cases such a representation is necessary 
 as the observational\ndata is too plentiful to be stored in a computationa
 lly feasible way.
DTSTAMP:20260315T184724Z
END:VEVENT
END:VCALENDAR