BEGIN:VCALENDAR
VERSION:2.0
PRODID:-//Drupal iCal API//EN
X-WR-CALNAME:Events items teaser
X-WR-TIMEZONE:America/Toronto
BEGIN:VTIMEZONE
TZID:America/Toronto
X-LIC-LOCATION:America/Toronto
BEGIN:DAYLIGHT
TZNAME:EDT
TZOFFSETFROM:-0500
TZOFFSETTO:-0400
DTSTART:20070311T070000
END:DAYLIGHT
BEGIN:STANDARD
TZNAME:EST
TZOFFSETFROM:-0400
TZOFFSETTO:-0500
DTSTART:20061029T060000
END:STANDARD
END:VTIMEZONE
BEGIN:VEVENT
UID:69b6feb525a41
DTSTART;TZID=America/Toronto:20070525T123000
SEQUENCE:0
TRANSP:TRANSPARENT
DTEND;TZID=America/Toronto:20070525T123000
URL:https://uwaterloo.ca/artificial-intelligence-group/events/ai-seminar-in
 tegrating-value-directed-compression-and-belief
LOCATION:DC - William G. Davis Computer Research Centre 200 University Aven
 ue West 2306C (AI lab) Waterloo ON N2L 3G1 Canada
SUMMARY:AI seminar: Integrating value-directed compression and belief\ncomp
 ression for POMDPs
CLASS:PUBLIC
DESCRIPTION:Speaker: Xin Li (Hong Kong Baptist University)\n\nPartially obs
 ervable Markov decision process (POMDP) is a commonly\nadopted framework t
 o model planning problems in a stochastic\nenvironment. However high dimen
 sionality of POMDP's belief space is\nstill one major cause for making the
  underlying optimal policy\ncomputation intractable.
DTSTAMP:20260315T184717Z
END:VEVENT
END:VCALENDAR