BEGIN:VCALENDAR
VERSION:2.0
PRODID:-//Drupal iCal API//EN
X-WR-CALNAME:Events items teaser
X-WR-TIMEZONE:America/Toronto
BEGIN:VTIMEZONE
TZID:America/Toronto
X-LIC-LOCATION:America/Toronto
BEGIN:DAYLIGHT
TZNAME:EDT
TZOFFSETFROM:-0500
TZOFFSETTO:-0400
DTSTART:20070311T070000
END:DAYLIGHT
BEGIN:STANDARD
TZNAME:EST
TZOFFSETFROM:-0400
TZOFFSETTO:-0500
DTSTART:20061029T060000
END:STANDARD
END:VTIMEZONE
BEGIN:VEVENT
UID:69c231d920dc1
DTSTART;TZID=America/Toronto:20070601T123000
SEQUENCE:0
TRANSP:TRANSPARENT
DTEND;TZID=America/Toronto:20070601T123000
URL:https://uwaterloo.ca/artificial-intelligence-group/events/ai-seminar-us
 er-participation-models-online-forum-and
LOCATION:DC - William G. Davis Computer Research Centre 200 University Aven
 ue West 2306C (AI lab) Waterloo ON N2L 3G1 Canada
SUMMARY:AI seminar: User participation models in online forum and\nregulari
 zation methods for classifier combination
CLASS:PUBLIC
DESCRIPTION:Speaker: Chun-hung Li (Professor at Hong Kong Baptist Universit
 y)\n\nIn the first part of the talk\, we will briefly go over our recent w
 ork\non the modeling of user participation in online discussion forum.
DTSTAMP:20260324T064025Z
END:VEVENT
END:VCALENDAR