BEGIN:VCALENDAR
VERSION:2.0
PRODID:-//Drupal iCal API//EN
X-WR-CALNAME:Events items teaser
X-WR-TIMEZONE:America/Toronto
BEGIN:VTIMEZONE
TZID:America/Toronto
X-LIC-LOCATION:America/Toronto
BEGIN:DAYLIGHT
TZNAME:EDT
TZOFFSETFROM:-0500
TZOFFSETTO:-0400
DTSTART:20070311T070000
END:DAYLIGHT
BEGIN:STANDARD
TZNAME:EST
TZOFFSETFROM:-0400
TZOFFSETTO:-0500
DTSTART:20061029T060000
END:STANDARD
END:VTIMEZONE
BEGIN:VEVENT
UID:69c231e986a19
DTSTART;TZID=America/Toronto:20070615T100000
SEQUENCE:0
TRANSP:TRANSPARENT
DTEND;TZID=America/Toronto:20070615T100000
URL:https://uwaterloo.ca/artificial-intelligence-group/events/ai-seminar-in
 telligent-assistance-active-learning-user
LOCATION:DC - William G. Davis Computer Research Centre 200 University Aven
 ue West 2306C (AI lab) Waterloo ON N2L 3G1 Canada
SUMMARY:AI seminar: Intelligent assistance: Active learning of user\nprefer
 ences and the Michigan autonomous guidance system
CLASS:PUBLIC
DESCRIPTION:Speaker: Julie Weber\n\nThis talk will describe two projects in
  the design of intelligent\nassistants. The first part will focus on a new
  algorithm for active\nlearning that is embedded within an interactive cal
 endar management\nsystem to learn users' scheduling preferences.
DTSTAMP:20260324T064041Z
END:VEVENT
END:VCALENDAR