BEGIN:VCALENDAR
VERSION:2.0
PRODID:-//Drupal iCal API//EN
X-WR-CALNAME:Events items teaser
X-WR-TIMEZONE:America/Toronto
BEGIN:VTIMEZONE
TZID:America/Toronto
X-LIC-LOCATION:America/Toronto
BEGIN:DAYLIGHT
TZNAME:EDT
TZOFFSETFROM:-0500
TZOFFSETTO:-0400
DTSTART:20070311T070000
END:DAYLIGHT
BEGIN:STANDARD
TZNAME:EST
TZOFFSETFROM:-0400
TZOFFSETTO:-0500
DTSTART:20061029T060000
END:STANDARD
END:VTIMEZONE
BEGIN:VEVENT
UID:69c231e9e7fba
DTSTART;TZID=America/Toronto:20070622T123000
SEQUENCE:0
TRANSP:TRANSPARENT
DTEND;TZID=America/Toronto:20070622T123000
URL:https://uwaterloo.ca/artificial-intelligence-group/events/ai-seminar-al
 ternative-approach-designing-clinical-trials
LOCATION:DC - William G. Davis Computer Research Centre 200 University Aven
 ue West 2306C (AI lab) Waterloo ON N2L 3G1 Canada
SUMMARY:AI seminar: An alternative approach to designing clinical trials:\n
 Budgeted learning of probabilistic classifiers
CLASS:PUBLIC
DESCRIPTION:Speaker: Russ Greiner (University of Alberta)\n\nResearchers of
 ten use clinical trials to collect the data needed to\nevaluate some hypot
 hesis\, or produce a classifier. During this\nprocess\, they have to pay t
 he cost of performing each test.
DTSTAMP:20260324T064041Z
END:VEVENT
END:VCALENDAR