BEGIN:VCALENDAR
VERSION:2.0
PRODID:-//Drupal iCal API//EN
X-WR-CALNAME:Events items teaser
X-WR-TIMEZONE:America/Toronto
BEGIN:VTIMEZONE
TZID:America/Toronto
X-LIC-LOCATION:America/Toronto
BEGIN:DAYLIGHT
TZNAME:EDT
TZOFFSETFROM:-0500
TZOFFSETTO:-0400
DTSTART:20070311T070000
END:DAYLIGHT
BEGIN:STANDARD
TZNAME:EST
TZOFFSETFROM:-0400
TZOFFSETTO:-0500
DTSTART:20061029T060000
END:STANDARD
END:VTIMEZONE
BEGIN:VEVENT
UID:69b41809ef34f
DTSTART;TZID=America/Toronto:20070628T130000
SEQUENCE:0
TRANSP:TRANSPARENT
DTEND;TZID=America/Toronto:20070628T130000
URL:https://uwaterloo.ca/artificial-intelligence-group/events/ai-seminar-ro
 bust-agent-communities-0
LOCATION:DC - William G. Davis Computer Research Centre 200 University Aven
 ue West 2306C (AI lab) Waterloo ON N2L 3G1 Canada
SUMMARY:AI seminar: Robust agent communities
CLASS:PUBLIC
DESCRIPTION:Speaker: Sandip Sen (University of Tulsa)\n\nWe believe that in
 telligent information agents will represent their\nusers' interest in elec
 tronic marketplaces and other forums to trade\,\nexchange\, share\, identi
 fy\, and locate goods and services. Such\ninformation worlds will present 
 unforeseen opportunities as well as\nchallenges that can be best addressed
  by robust\, self-sustaining agent\ncommunities.
DTSTAMP:20260313T135833Z
END:VEVENT
END:VCALENDAR