BEGIN:VCALENDAR
VERSION:2.0
PRODID:-//Drupal iCal API//EN
X-WR-CALNAME:Events items teaser
X-WR-TIMEZONE:America/Toronto
BEGIN:VTIMEZONE
TZID:America/Toronto
X-LIC-LOCATION:America/Toronto
BEGIN:DAYLIGHT
TZNAME:EDT
TZOFFSETFROM:-0500
TZOFFSETTO:-0400
DTSTART:20070311T070000
END:DAYLIGHT
BEGIN:STANDARD
TZNAME:EST
TZOFFSETFROM:-0400
TZOFFSETTO:-0500
DTSTART:20061029T060000
END:STANDARD
END:VTIMEZONE
BEGIN:VEVENT
UID:69c231f3b1aba
DTSTART;TZID=America/Toronto:20070719T113000
SEQUENCE:0
TRANSP:TRANSPARENT
DTEND;TZID=America/Toronto:20070719T113000
URL:https://uwaterloo.ca/artificial-intelligence-group/events/ai-seminar-in
 centive-mechanism-promoting-honesty-e
LOCATION:DC - William G. Davis Computer Research Centre 200 University Aven
 ue West 2306C (AI lab) Waterloo ON N2L 3G1 Canada
SUMMARY:AI seminar: An incentive mechanism for promoting honesty in\ne-mark
 etplaces
CLASS:PUBLIC
DESCRIPTION:Speaker: Jie Zhang\n\nIn this talk\, we consider the challenge 
 of designing an electronic\nmarketplace populated with buying and selling 
 agents that learn to\nchoose the best business partners\, for their users.
  In particular\, we\npresent a novel mechanism that creates incentives for
  honesty in this\nelectronic marketplace.
DTSTAMP:20260324T064051Z
END:VEVENT
END:VCALENDAR