BEGIN:VCALENDAR
VERSION:2.0
PRODID:-//Drupal iCal API//EN
X-WR-CALNAME:Events items teaser
X-WR-TIMEZONE:America/Toronto
BEGIN:VTIMEZONE
TZID:America/Toronto
X-LIC-LOCATION:America/Toronto
BEGIN:DAYLIGHT
TZNAME:EDT
TZOFFSETFROM:-0500
TZOFFSETTO:-0400
DTSTART:20070311T070000
END:DAYLIGHT
BEGIN:STANDARD
TZNAME:EST
TZOFFSETFROM:-0400
TZOFFSETTO:-0500
DTSTART:20061029T060000
END:STANDARD
END:VTIMEZONE
BEGIN:VEVENT
UID:69c232016f53a
DTSTART;TZID=America/Toronto:20070921T113000
SEQUENCE:0
TRANSP:TRANSPARENT
DTEND;TZID=America/Toronto:20070921T113000
URL:https://uwaterloo.ca/artificial-intelligence-group/events/ai-seminar-ro
 bocup-coming-home
LOCATION:DC - William G. Davis Computer Research Centre 200 University Aven
 ue West 2306C (AI lab) Waterloo ON N2L 3G1 Canada
SUMMARY:AI seminar: Robocup is coming home
CLASS:PUBLIC
DESCRIPTION:Speaker: Gerhard Lakemeyer (Department of Computer Science\, RW
 TH\nAachen\, Germany)\n\nOur group has been involved with Robocup for more
  than five years. We\nstarted out in the so-called mid-size league with te
 ams of four to\nfive mobile robots playing soccer. Recently we have also e
 ntered the\nRobocup@Home league\, where robots operate in a home environme
 nt.
DTSTAMP:20260324T064105Z
END:VEVENT
END:VCALENDAR