BEGIN:VCALENDAR
VERSION:2.0
PRODID:-//Drupal iCal API//EN
X-WR-CALNAME:Events items teaser
X-WR-TIMEZONE:America/Toronto
BEGIN:VTIMEZONE
TZID:America/Toronto
X-LIC-LOCATION:America/Toronto
BEGIN:DAYLIGHT
TZNAME:EDT
TZOFFSETFROM:-0500
TZOFFSETTO:-0400
DTSTART:20070311T070000
END:DAYLIGHT
BEGIN:STANDARD
TZNAME:EST
TZOFFSETFROM:-0400
TZOFFSETTO:-0500
DTSTART:20061029T060000
END:STANDARD
END:VTIMEZONE
BEGIN:VEVENT
UID:69b15d0605d9b
DTSTART;TZID=America/Toronto:20071005T113000
SEQUENCE:0
TRANSP:TRANSPARENT
DTEND;TZID=America/Toronto:20071005T113000
URL:https://uwaterloo.ca/artificial-intelligence-group/events/ai-seminar-pr
 oviding-users-explanations-mixed-initiative
LOCATION:DC - William G. Davis Computer Research Centre 200 University Aven
 ue West 2306C (AI lab) Waterloo ON N2L 3G1 Canada
SUMMARY:AI seminar: Providing users with explanations in a mixed-initiative
 \nsystem for GUI customization
CLASS:PUBLIC
DESCRIPTION:Speaker: Andrea Bunt\n\nMixed-initiative approaches to GUI pers
 onalization combine aspects of\npurely adaptive approaches\, which rely on
  AI techniques to\nautomatically personalize the GUI\, and adaptable appro
 aches\, which\nplace the personalization onus solely on the user.
DTSTAMP:20260311T121606Z
END:VEVENT
END:VCALENDAR