BEGIN:VCALENDAR
VERSION:2.0
PRODID:-//Drupal iCal API//EN
X-WR-CALNAME:Events items teaser
X-WR-TIMEZONE:America/Toronto
BEGIN:VTIMEZONE
TZID:America/Toronto
X-LIC-LOCATION:America/Toronto
BEGIN:DAYLIGHT
TZNAME:EDT
TZOFFSETFROM:-0500
TZOFFSETTO:-0400
DTSTART:20070311T070000
END:DAYLIGHT
BEGIN:STANDARD
TZNAME:EST
TZOFFSETFROM:-0400
TZOFFSETTO:-0500
DTSTART:20061029T060000
END:STANDARD
END:VTIMEZONE
BEGIN:VEVENT
UID:69bde34334ee8
DTSTART;TZID=America/Toronto:20071017T130000
SEQUENCE:0
TRANSP:TRANSPARENT
DTEND;TZID=America/Toronto:20071017T130000
URL:https://uwaterloo.ca/artificial-intelligence-group/events/ai-seminar-in
 cremental-plan-recognition-agent-programming
LOCATION:DC - William G. Davis Computer Research Centre 200 University Aven
 ue West 2306C (AI lab) Waterloo ON N2L 3G1 Canada
SUMMARY:AI seminar: Incremental plan recognition in an agent programming\nf
 ramework
CLASS:PUBLIC
DESCRIPTION:Speaker: Yves Lesperance (York University)\n\nIn this talk\, I 
 will present a formal model of plan recognition for\ninclusion in a cognit
 ive agent programming framework.
DTSTAMP:20260321T001603Z
END:VEVENT
END:VCALENDAR