BEGIN:VCALENDAR
VERSION:2.0
PRODID:-//Drupal iCal API//EN
X-WR-CALNAME:Events items teaser
X-WR-TIMEZONE:America/Toronto
BEGIN:VTIMEZONE
TZID:America/Toronto
X-LIC-LOCATION:America/Toronto
BEGIN:DAYLIGHT
TZNAME:EDT
TZOFFSETFROM:-0500
TZOFFSETTO:-0400
DTSTART:20070311T070000
END:DAYLIGHT
BEGIN:STANDARD
TZNAME:EST
TZOFFSETFROM:-0400
TZOFFSETTO:-0500
DTSTART:20061029T060000
END:STANDARD
END:VTIMEZONE
BEGIN:VEVENT
UID:69b6feb494fa2
DTSTART;TZID=America/Toronto:20071017T130000
SEQUENCE:0
TRANSP:TRANSPARENT
DTEND;TZID=America/Toronto:20071017T130000
URL:https://uwaterloo.ca/artificial-intelligence-group/events/ai-seminar-su
 bjective-mapping-0
LOCATION:DC - William G. Davis Computer Research Centre 200 University Aven
 ue West 2306C (AI lab) Waterloo ON N2L 3G1 Canada
SUMMARY:AI seminar: Subjective mapping
CLASS:PUBLIC
DESCRIPTION:Speaker: Dana Wilkinson\n\nThere are a variety of domains where
  it is desirable to learn a\nrepresentation of an environment defined by a
  stream of sensori-motor\nexperience. This talk introduces and formalizes 
 Subjective Mapping\, a\nnovel approach to this problem.
DTSTAMP:20260315T184716Z
END:VEVENT
END:VCALENDAR