BEGIN:VCALENDAR
VERSION:2.0
PRODID:-//Drupal iCal API//EN
X-WR-CALNAME:Events items teaser
X-WR-TIMEZONE:America/Toronto
BEGIN:VTIMEZONE
TZID:America/Toronto
X-LIC-LOCATION:America/Toronto
BEGIN:DAYLIGHT
TZNAME:EDT
TZOFFSETFROM:-0500
TZOFFSETTO:-0400
DTSTART:20070311T070000
END:DAYLIGHT
BEGIN:STANDARD
TZNAME:EST
TZOFFSETFROM:-0400
TZOFFSETTO:-0500
DTSTART:20061029T060000
END:STANDARD
END:VTIMEZONE
BEGIN:VEVENT
UID:69b6feb40c0b0
DTSTART;TZID=America/Toronto:20071026T113000
SEQUENCE:0
TRANSP:TRANSPARENT
DTEND;TZID=America/Toronto:20071026T113000
URL:https://uwaterloo.ca/artificial-intelligence-group/events/ai-seminar-fi
 nding-experts-link-prediction-co-authorship
LOCATION:DC - William G. Davis Computer Research Centre 200 University Aven
 ue West 2306C (AI lab) Waterloo ON N2L 3G1 Canada
SUMMARY:AI seminar: Finding experts by link prediction in co-authorship\nne
 tworks
CLASS:PUBLIC
DESCRIPTION:Speaker: Milen Pavlov\n\nResearch collaborations are always enc
 ouraged\, as they often yield\ngood results. However\, researcher networks
  contain massive amounts of\nexperts in various disciplines and it is diff
 icult for the individual\nresearcher to decide which experts will match hi
 s own expertise best.
DTSTAMP:20260315T184716Z
END:VEVENT
END:VCALENDAR