BEGIN:VCALENDAR
VERSION:2.0
PRODID:-//Drupal iCal API//EN
X-WR-CALNAME:Events items teaser
X-WR-TIMEZONE:America/Toronto
BEGIN:VTIMEZONE
TZID:America/Toronto
X-LIC-LOCATION:America/Toronto
BEGIN:DAYLIGHT
TZNAME:EDT
TZOFFSETFROM:-0500
TZOFFSETTO:-0400
DTSTART:20070311T070000
END:DAYLIGHT
BEGIN:STANDARD
TZNAME:EST
TZOFFSETFROM:-0400
TZOFFSETTO:-0500
DTSTART:20071104T060000
END:STANDARD
END:VTIMEZONE
BEGIN:VEVENT
UID:69b6feb278c15
DTSTART;TZID=America/Toronto:20071109T113000
SEQUENCE:0
TRANSP:TRANSPARENT
DTEND;TZID=America/Toronto:20071109T113000
URL:https://uwaterloo.ca/artificial-intelligence-group/events/ai-seminar-wh
 at-can-agents-achieve-logical-theory-joint
LOCATION:DC - William G. Davis Computer Research Centre 200 University Aven
 ue West 2306C (AI lab) Waterloo ON N2L 3G1 Canada
SUMMARY:AI seminar: What can agents achieve? A logical theory of joint abil
 ity\nin teamwork
CLASS:PUBLIC
DESCRIPTION:Speaker: Hojjat Ghaderi\, University of Toronto\n\nThe coordina
 tion of cooperating but autonomous agents is a core\nproblem in multiagent
  systems research. A team of agents is said to\nhave joint ability to achi
 eve a goal if despite any incomplete\nknowledge or even false beliefs that
  they may have about the world or\neach others\, they still know enough to
  get to a goal state\, should\nthey choose to do so.
DTSTAMP:20260315T184714Z
END:VEVENT
END:VCALENDAR