BEGIN:VCALENDAR
VERSION:2.0
PRODID:-//Drupal iCal API//EN
X-WR-CALNAME:Events items teaser
X-WR-TIMEZONE:America/Toronto
BEGIN:VTIMEZONE
TZID:America/Toronto
X-LIC-LOCATION:America/Toronto
BEGIN:DAYLIGHT
TZNAME:EDT
TZOFFSETFROM:-0500
TZOFFSETTO:-0400
DTSTART:20050403T070000
END:DAYLIGHT
BEGIN:STANDARD
TZNAME:EST
TZOFFSETFROM:-0400
TZOFFSETTO:-0500
DTSTART:20051030T060000
END:STANDARD
END:VTIMEZONE
BEGIN:VEVENT
UID:69ba1ef32f1d4
DTSTART;TZID=America/Toronto:20060217T113000
SEQUENCE:0
TRANSP:TRANSPARENT
DTEND;TZID=America/Toronto:20060217T113000
URL:https://uwaterloo.ca/artificial-intelligence-group/events/ai-seminar-an
 alytic-solution-discrete-bayesian-reinforcement
LOCATION:DC - William G. Davis Computer Research Centre 200 University Aven
 ue West 2306C (AI lab) Waterloo ON N2L 3G1 Canada
SUMMARY:AI seminar: An analytic solution to discrete Bayesian reinforcement
 \nlearning
CLASS:PUBLIC
DESCRIPTION:Speaker: Pascal Poupart\n\nReinforcement learning (RL) was orig
 inally proposed as a framework to\nallow agents to learn in an online fash
 ion as they interact with their\nenvironment. Existing RL algorithms come 
 short of achieving this goal\nbecause the amount of exploration required i
 s often too costly and/or\ntoo time consuming for online learning. As a re
 sult\, RL is mostly used\nfor offline learning in simulated environments. 
 We propose a new\nalgorithm\, called BEETLE\, for effective online learnin
 g that is\ncomputationally efficient while minimizing the amount of explor
 ation.
DTSTAMP:20260318T034139Z
END:VEVENT
END:VCALENDAR