BEGIN:VCALENDAR
VERSION:2.0
PRODID:-//Drupal iCal API//EN
X-WR-CALNAME:Events items teaser
X-WR-TIMEZONE:America/Toronto
BEGIN:VTIMEZONE
TZID:America/Toronto
X-LIC-LOCATION:America/Toronto
BEGIN:DAYLIGHT
TZNAME:EDT
TZOFFSETFROM:-0500
TZOFFSETTO:-0400
DTSTART:20050403T070000
END:DAYLIGHT
BEGIN:STANDARD
TZNAME:EST
TZOFFSETFROM:-0400
TZOFFSETTO:-0500
DTSTART:20051030T060000
END:STANDARD
END:VTIMEZONE
BEGIN:VEVENT
UID:69ba1ef49f5a4
DTSTART;TZID=America/Toronto:20060310T113000
SEQUENCE:0
TRANSP:TRANSPARENT
DTEND;TZID=America/Toronto:20060310T113000
URL:https://uwaterloo.ca/artificial-intelligence-group/events/ai-seminar-le
 arning-maps
LOCATION:DC - William G. Davis Computer Research Centre 200 University Aven
 ue West 2306C (AI lab) Waterloo ON N2L 3G1 Canada
SUMMARY:AI seminar: Learning maps
CLASS:PUBLIC
DESCRIPTION:Speaker: Dana Wilkinson\n\nGiven a collection of data points an
 notated with action labels\n(obtained\, for example\, from a robot mounted
  with a web camera or a\nlaser range finder) we wish to learn a representa
 tion of the data\nwhich can be used as a map (for planning\, etc.).
DTSTAMP:20260318T034140Z
END:VEVENT
END:VCALENDAR