BEGIN:VCALENDAR
VERSION:2.0
PRODID:-//Drupal iCal API//EN
X-WR-CALNAME:Events items teaser
X-WR-TIMEZONE:America/Toronto
BEGIN:VTIMEZONE
TZID:America/Toronto
X-LIC-LOCATION:America/Toronto
BEGIN:DAYLIGHT
TZNAME:EDT
TZOFFSETFROM:-0500
TZOFFSETTO:-0400
DTSTART:20050403T070000
END:DAYLIGHT
BEGIN:STANDARD
TZNAME:EST
TZOFFSETFROM:-0400
TZOFFSETTO:-0500
DTSTART:20051030T060000
END:STANDARD
END:VTIMEZONE
BEGIN:VEVENT
UID:69b6feac37849
DTSTART;TZID=America/Toronto:20060317T113000
SEQUENCE:0
TRANSP:TRANSPARENT
DTEND;TZID=America/Toronto:20060317T113000
URL:https://uwaterloo.ca/artificial-intelligence-group/events/ai-seminar-co
 gnition-neurons-large-scale-biologically
LOCATION:DC - William G. Davis Computer Research Centre 200 University Aven
 ue West 2306C (AI lab) Waterloo ON N2L 3G1 Canada
SUMMARY:AI seminar: Cognition with neurons: A large-scale\, biologically\nr
 ealistic model of the Wason task
CLASS:PUBLIC
DESCRIPTION:Speaker: Chris Eliasmith\n\nI present a cognitive model\, dubbe
 d BioSLIE\, that integrates and\nextends recent advances in:\n\n* distribu
 ted\, structure sensitive representation\n * neurocomputational modeling\n
  * our understanding of the neuroanatomy of linguistic inference
DTSTAMP:20260315T184708Z
END:VEVENT
END:VCALENDAR