BEGIN:VCALENDAR
VERSION:2.0
PRODID:-//Drupal iCal API//EN
X-WR-CALNAME:Events items teaser
X-WR-TIMEZONE:America/Toronto
BEGIN:VTIMEZONE
TZID:America/Toronto
X-LIC-LOCATION:America/Toronto
BEGIN:DAYLIGHT
TZNAME:EDT
TZOFFSETFROM:-0500
TZOFFSETTO:-0400
DTSTART:20050403T070000
END:DAYLIGHT
BEGIN:STANDARD
TZNAME:EST
TZOFFSETFROM:-0400
TZOFFSETTO:-0500
DTSTART:20051030T060000
END:STANDARD
END:VTIMEZONE
BEGIN:VEVENT
UID:69b56a39cf004
DTSTART;TZID=America/Toronto:20060331T113000
SEQUENCE:0
TRANSP:TRANSPARENT
DTEND;TZID=America/Toronto:20060331T113000
URL:https://uwaterloo.ca/artificial-intelligence-group/events/ai-seminar-re
 aders-perceptions-lexical-cohesion-and-lexical
LOCATION:DC - William G. Davis Computer Research Centre 200 University Aven
 ue West 2306C (AI lab) Waterloo ON N2L 3G1 Canada
SUMMARY:AI seminar: Readers' perceptions of lexical cohesion and lexical\ns
 emantic relations in text
CLASS:PUBLIC
DESCRIPTION:Speaker: Jane Morris\n\nMost research on automated text underst
 anding\, including applications\nin information retrieval and text summari
 zation\, does not consider the\npotential subjectivity of human interpreta
 tion of text. In particular\,\nthe subjectivity of the linguistic theory o
 f lexical cohesion that has\nbeen used in these applications has not been 
 examined empirically.
DTSTAMP:20260314T140129Z
END:VEVENT
END:VCALENDAR