BEGIN:VCALENDAR
VERSION:2.0
PRODID:-//Drupal iCal API//EN
X-WR-CALNAME:Events items teaser
X-WR-TIMEZONE:America/Toronto
BEGIN:VTIMEZONE
TZID:America/Toronto
X-LIC-LOCATION:America/Toronto
BEGIN:DAYLIGHT
TZNAME:EDT
TZOFFSETFROM:-0500
TZOFFSETTO:-0400
DTSTART:20060402T070000
END:DAYLIGHT
BEGIN:STANDARD
TZNAME:EST
TZOFFSETFROM:-0400
TZOFFSETTO:-0500
DTSTART:20051030T060000
END:STANDARD
END:VTIMEZONE
BEGIN:VEVENT
UID:69b6fead4223b
DTSTART;TZID=America/Toronto:20060407T113000
SEQUENCE:0
TRANSP:TRANSPARENT
DTEND;TZID=America/Toronto:20060407T113000
URL:https://uwaterloo.ca/artificial-intelligence-group/events/ai-seminar-op
 tical-snow
LOCATION:DC - William G. Davis Computer Research Centre 200 University Aven
 ue West 2306C (AI lab) Waterloo ON N2L 3G1 Canada
SUMMARY:AI seminar: Optical snow
CLASS:PUBLIC
DESCRIPTION:Speaker: Richard Mann\n\nClassical methods for measuring image 
 motion by computer have\nconcentrated on the cases of optical flow in whic
 h the motion field is\ncontinuous\, or layered motion in which the motion 
 field is piecewise\ncontinuous. Here we introduce a third natural category
  which we call\noptical snow.
DTSTAMP:20260315T184709Z
END:VEVENT
END:VCALENDAR