BEGIN:VCALENDAR
VERSION:2.0
PRODID:-//Drupal iCal API//EN
X-WR-CALNAME:Events items teaser
X-WR-TIMEZONE:America/Toronto
BEGIN:VTIMEZONE
TZID:America/Toronto
X-LIC-LOCATION:America/Toronto
BEGIN:DAYLIGHT
TZNAME:EDT
TZOFFSETFROM:-0500
TZOFFSETTO:-0400
DTSTART:20060402T070000
END:DAYLIGHT
BEGIN:STANDARD
TZNAME:EST
TZOFFSETFROM:-0400
TZOFFSETTO:-0500
DTSTART:20051030T060000
END:STANDARD
END:VTIMEZONE
BEGIN:VEVENT
UID:69b6feab9a5fe
DTSTART;TZID=America/Toronto:20060421T113000
SEQUENCE:0
TRANSP:TRANSPARENT
DTEND;TZID=America/Toronto:20060421T113000
URL:https://uwaterloo.ca/artificial-intelligence-group/events/ai-seminar-ca
 se-based-biases-intuitive-probability-and
LOCATION:DC - William G. Davis Computer Research Centre 200 University Aven
 ue West 2306C (AI lab) Waterloo ON N2L 3G1 Canada
SUMMARY:AI seminar: Case-based biases in intuitive probability and pricing\
 njudgments
CLASS:PUBLIC
DESCRIPTION:Speaker: Derek Koehler (Cognitive Psychology)\n\nA stock market
  simulation tested whether known biases in probability\njudgment are atten
 uated in an asset pricing setting.
DTSTAMP:20260315T184707Z
END:VEVENT
END:VCALENDAR