BEGIN:VCALENDAR
VERSION:2.0
PRODID:-//Drupal iCal API//EN
X-WR-CALNAME:Events items teaser
X-WR-TIMEZONE:America/Toronto
BEGIN:VTIMEZONE
TZID:America/Toronto
X-LIC-LOCATION:America/Toronto
BEGIN:DAYLIGHT
TZNAME:EDT
TZOFFSETFROM:-0500
TZOFFSETTO:-0400
DTSTART:20060402T070000
END:DAYLIGHT
BEGIN:STANDARD
TZNAME:EST
TZOFFSETFROM:-0400
TZOFFSETTO:-0500
DTSTART:20051030T060000
END:STANDARD
END:VTIMEZONE
BEGIN:VEVENT
UID:69b41eb230f7c
DTSTART;TZID=America/Toronto:20060428T113000
SEQUENCE:0
TRANSP:TRANSPARENT
DTEND;TZID=America/Toronto:20060428T113000
URL:https://uwaterloo.ca/artificial-intelligence-group/events/ai-seminar-pe
 rsonalized-approach-address-unfair-ratings
LOCATION:DC - William G. Davis Computer Research Centre 200 University Aven
 ue West 2306C (AI lab) Waterloo ON N2L 3G1 Canada
SUMMARY:AI seminar: A personalized approach to address unfair ratings in\nm
 ultiagent reputation systems
CLASS:PUBLIC
DESCRIPTION:Speaker: Jie Zhang\n\nIn multiagent systems populated by self-i
 nterested agents\, consumer\nagents would benefit by modeling the reputati
 on of provider agents\, in\norder to make effective decisions about which 
 agents to trust. One\nmethod for representing reputation is to ask other a
 gents in the\nsystem (called advisor agents) to provide ratings of the pro
 vider\nagents.
DTSTAMP:20260313T142658Z
END:VEVENT
END:VCALENDAR