BEGIN:VCALENDAR
VERSION:2.0
PRODID:-//Drupal iCal API//EN
X-WR-CALNAME:Events items teaser
X-WR-TIMEZONE:America/Toronto
BEGIN:VTIMEZONE
TZID:America/Toronto
X-LIC-LOCATION:America/Toronto
BEGIN:DAYLIGHT
TZNAME:EDT
TZOFFSETFROM:-0500
TZOFFSETTO:-0400
DTSTART:20060402T070000
END:DAYLIGHT
BEGIN:STANDARD
TZNAME:EST
TZOFFSETFROM:-0400
TZOFFSETTO:-0500
DTSTART:20051030T060000
END:STANDARD
END:VTIMEZONE
BEGIN:VEVENT
UID:69b5869acd658
DTSTART;TZID=America/Toronto:20060505T113000
SEQUENCE:0
TRANSP:TRANSPARENT
DTEND;TZID=America/Toronto:20060505T113000
URL:https://uwaterloo.ca/artificial-intelligence-group/events/ai-seminar-im
 age-processing-and-2d-stockwell-transform
LOCATION:DC - William G. Davis Computer Research Centre 200 University Aven
 ue West 2306C (AI lab) Waterloo ON N2L 3G1 Canada
SUMMARY:AI seminar: Image processing and the 2D Stockwell transform
CLASS:PUBLIC
DESCRIPTION:Speaker: Allan Caine\n\nIn this talk\, we will present the 2D S
 tockwell transform (2D\ns-transform) and its application to image processi
 ng.
DTSTAMP:20260314T160234Z
END:VEVENT
END:VCALENDAR