BEGIN:VCALENDAR
VERSION:2.0
PRODID:-//Drupal iCal API//EN
X-WR-CALNAME:Events items teaser
X-WR-TIMEZONE:America/Toronto
BEGIN:VTIMEZONE
TZID:America/Toronto
X-LIC-LOCATION:America/Toronto
BEGIN:DAYLIGHT
TZNAME:EDT
TZOFFSETFROM:-0500
TZOFFSETTO:-0400
DTSTART:20060402T070000
END:DAYLIGHT
BEGIN:STANDARD
TZNAME:EST
TZOFFSETFROM:-0400
TZOFFSETTO:-0500
DTSTART:20051030T060000
END:STANDARD
END:VTIMEZONE
BEGIN:VEVENT
UID:69b6feae5e6e6
DTSTART;TZID=America/Toronto:20060512T113000
SEQUENCE:0
TRANSP:TRANSPARENT
DTEND;TZID=America/Toronto:20060512T113000
URL:https://uwaterloo.ca/artificial-intelligence-group/events/ai-seminar-ap
 proach-delivering-personalized-ads-interactive
LOCATION:DC - William G. Davis Computer Research Centre 200 University Aven
 ue West 2306C (AI lab) Waterloo ON N2L 3G1 Canada
SUMMARY:AI seminar: An approach for delivering personalized ads in interact
 ive\nTV customized to both users and advertisers
CLASS:PUBLIC
DESCRIPTION:Speaker: Georgia Kastidou\n\nIn this paper\, we present a model
  for delivering personalized ads to\nusers while they are watching TV show
 s. Our approach is to model user\npreferences\, based on characterizing no
 t only the keywords of primary\ninterest but also the relative weighting o
 f those keywords.
DTSTAMP:20260315T184710Z
END:VEVENT
END:VCALENDAR