BEGIN:VCALENDAR
VERSION:2.0
PRODID:-//Drupal iCal API//EN
X-WR-CALNAME:Events items teaser
X-WR-TIMEZONE:America/Toronto
BEGIN:VTIMEZONE
TZID:America/Toronto
X-LIC-LOCATION:America/Toronto
BEGIN:DAYLIGHT
TZNAME:EDT
TZOFFSETFROM:-0500
TZOFFSETTO:-0400
DTSTART:20060402T070000
END:DAYLIGHT
BEGIN:STANDARD
TZNAME:EST
TZOFFSETFROM:-0400
TZOFFSETTO:-0500
DTSTART:20051030T060000
END:STANDARD
END:VTIMEZONE
BEGIN:VEVENT
UID:69b0f971c40f1
DTSTART;TZID=America/Toronto:20060519T113000
SEQUENCE:0
TRANSP:TRANSPARENT
DTEND;TZID=America/Toronto:20060519T113000
URL:https://uwaterloo.ca/artificial-intelligence-group/events/ai-seminar-tr
 ajectory-capture-frontal-plane-geometry
LOCATION:DC - William G. Davis Computer Research Centre 200 University Aven
 ue West 2306C (AI lab) Waterloo ON N2L 3G1 Canada
SUMMARY:AI seminar: Trajectory capture in frontal plane geometry for visual
 ly\nimpaired
CLASS:PUBLIC
DESCRIPTION:Speaker: Martin Talbot\n\nUsers who are blind\, or whose visual
  attention is otherwise occupied\,\ncan benefit from an auditory represent
 ation of their immediate\nenvironment. To create it a video camera senses 
 the environment\, which\nis converted into synthetic audio streams that re
 present objects in\nthe environment. What aspects of the audio signal best
  encode this\ninformation?
DTSTAMP:20260311T051113Z
END:VEVENT
END:VCALENDAR