BEGIN:VCALENDAR
VERSION:2.0
PRODID:-//Drupal iCal API//EN
X-WR-CALNAME:Events items teaser
X-WR-TIMEZONE:America/Toronto
BEGIN:VTIMEZONE
TZID:America/Toronto
X-LIC-LOCATION:America/Toronto
BEGIN:DAYLIGHT
TZNAME:EDT
TZOFFSETFROM:-0500
TZOFFSETTO:-0400
DTSTART:20060402T070000
END:DAYLIGHT
BEGIN:STANDARD
TZNAME:EST
TZOFFSETFROM:-0400
TZOFFSETTO:-0500
DTSTART:20051030T060000
END:STANDARD
END:VTIMEZONE
BEGIN:VEVENT
UID:69b6feaa888b2
DTSTART;TZID=America/Toronto:20060602T113000
SEQUENCE:0
TRANSP:TRANSPARENT
DTEND;TZID=America/Toronto:20060602T113000
URL:https://uwaterloo.ca/artificial-intelligence-group/events/ai-seminar-op
 timal-simulation-interruptible-anytime
LOCATION:DC - William G. Davis Computer Research Centre 200 University Aven
 ue West 2306C (AI lab) Waterloo ON N2L 3G1 Canada
SUMMARY:AI seminar: Optimal simulation of interruptible anytime algorithms\
 nusing contract algorithms
CLASS:PUBLIC
DESCRIPTION:Speaker: Alex Lopez-Ortiz\n\nConsider the scenario of routing o
 f a Fedex delivery van. The packages\nto be delivered are received by midn
 ight and delivery starts at\n7:00am. This means we have seven hours to com
 pute the best possible\napproximation to the optimum Travelling Salesman P
 ath computable in\nthat time.
DTSTAMP:20260315T184706Z
END:VEVENT
END:VCALENDAR