BEGIN:VCALENDAR
VERSION:2.0
PRODID:-//Drupal iCal API//EN
X-WR-CALNAME:Events items teaser
X-WR-TIMEZONE:America/Toronto
BEGIN:VTIMEZONE
TZID:America/Toronto
X-LIC-LOCATION:America/Toronto
BEGIN:DAYLIGHT
TZNAME:EDT
TZOFFSETFROM:-0500
TZOFFSETTO:-0400
DTSTART:20060402T070000
END:DAYLIGHT
BEGIN:STANDARD
TZNAME:EST
TZOFFSETFROM:-0400
TZOFFSETTO:-0500
DTSTART:20051030T060000
END:STANDARD
END:VTIMEZONE
BEGIN:VEVENT
UID:69c2324ca7338
DTSTART;TZID=America/Toronto:20060609T113000
SEQUENCE:0
TRANSP:TRANSPARENT
DTEND;TZID=America/Toronto:20060609T113000
URL:https://uwaterloo.ca/artificial-intelligence-group/events/ai-seminar-cl
 ustering-using-belief-propagation-and-linear
LOCATION:DC - William G. Davis Computer Research Centre 200 University Aven
 ue West 2306C (AI lab) Waterloo ON N2L 3G1 Canada
SUMMARY:AI seminar: Clustering using belief propagation and linear programm
 ing
CLASS:PUBLIC
DESCRIPTION:Speaker: Delbert Dueck\n\nWhile many clustering methods assume 
 clusters are described by\nparameters or points in a vector space\, an alt
 ernative approach is to\nidentify a set of training cases as 'exemplars' a
 nd then assign every\nother training case to an exemplar.
DTSTAMP:20260324T064220Z
END:VEVENT
END:VCALENDAR