BEGIN:VCALENDAR
VERSION:2.0
PRODID:-//Drupal iCal API//EN
X-WR-CALNAME:Events items teaser
X-WR-TIMEZONE:America/Toronto
BEGIN:VTIMEZONE
TZID:America/Toronto
X-LIC-LOCATION:America/Toronto
BEGIN:DAYLIGHT
TZNAME:EDT
TZOFFSETFROM:-0500
TZOFFSETTO:-0400
DTSTART:20060402T070000
END:DAYLIGHT
BEGIN:STANDARD
TZNAME:EST
TZOFFSETFROM:-0400
TZOFFSETTO:-0500
DTSTART:20051030T060000
END:STANDARD
END:VTIMEZONE
BEGIN:VEVENT
UID:69c232595c9f9
DTSTART;TZID=America/Toronto:20060623T113000
SEQUENCE:0
TRANSP:TRANSPARENT
DTEND;TZID=America/Toronto:20060623T113000
URL:https://uwaterloo.ca/artificial-intelligence-group/events/ai-seminar-pe
 rforming-incremental-bayesian-inference-dynamic
LOCATION:DC - William G. Davis Computer Research Centre 200 University Aven
 ue West 2306C (AI lab) Waterloo ON N2L 3G1 Canada
SUMMARY:AI seminar: Performing incremental Bayesian inference by dynamic mo
 del\ncounting
CLASS:PUBLIC
DESCRIPTION:Speaker: Wei Li\n\nThe ability to update the structure of a Bay
 esian network when new\ndata becomes available is crucial for building ada
 ptive systems.\nRecent work demonstrates that the well-known Davis-Putnam 
 procedure\ncombined with a dynamic decomposition and caching technique is 
 an\neffective method for exact inference in Bayesian networks with high\nd
 ensity and width.
DTSTAMP:20260324T064233Z
END:VEVENT
END:VCALENDAR