BEGIN:VCALENDAR
VERSION:2.0
PRODID:-//Drupal iCal API//EN
X-WR-CALNAME:Events items teaser
X-WR-TIMEZONE:America/Toronto
BEGIN:VTIMEZONE
TZID:America/Toronto
X-LIC-LOCATION:America/Toronto
BEGIN:DAYLIGHT
TZNAME:EDT
TZOFFSETFROM:-0500
TZOFFSETTO:-0400
DTSTART:20060402T070000
END:DAYLIGHT
BEGIN:STANDARD
TZNAME:EST
TZOFFSETFROM:-0400
TZOFFSETTO:-0500
DTSTART:20051030T060000
END:STANDARD
END:VTIMEZONE
BEGIN:VEVENT
UID:69b723e509206
DTSTART;TZID=America/Toronto:20060711T140000
SEQUENCE:0
TRANSP:TRANSPARENT
DTEND;TZID=America/Toronto:20060711T140000
URL:https://uwaterloo.ca/artificial-intelligence-group/events/ai-seminar-un
 certainty-logical-procedural-and-relational
LOCATION:DC - William G. Davis Computer Research Centre 200 University Aven
 ue West 2306C (AI lab) Waterloo ON N2L 3G1 Canada
SUMMARY:AI seminar: Uncertainty with logical\, procedural and relational\nl
 anguages
CLASS:PUBLIC
DESCRIPTION:Speaker: David Poole [http://www.cs.ubc.ca/~poole/] (University
  of\nBritish Columbia)\n\nThis tutorial gives an overview of rich represen
 tations for\nprobabilistic reasoning. The first third of the tutorial give
 s the\nbasics of logic\, knowledge representation and probability.
DTSTAMP:20260315T212557Z
END:VEVENT
END:VCALENDAR