BEGIN:VCALENDAR
VERSION:2.0
PRODID:-//Drupal iCal API//EN
X-WR-CALNAME:Events items teaser
X-WR-TIMEZONE:America/Toronto
BEGIN:VTIMEZONE
TZID:America/Toronto
X-LIC-LOCATION:America/Toronto
BEGIN:DAYLIGHT
TZNAME:EDT
TZOFFSETFROM:-0500
TZOFFSETTO:-0400
DTSTART:20060402T070000
END:DAYLIGHT
BEGIN:STANDARD
TZNAME:EST
TZOFFSETFROM:-0400
TZOFFSETTO:-0500
DTSTART:20051030T060000
END:STANDARD
END:VTIMEZONE
BEGIN:VEVENT
UID:69b08ecb6c35f
DTSTART;TZID=America/Toronto:20060728T103000
SEQUENCE:0
TRANSP:TRANSPARENT
DTEND;TZID=America/Toronto:20060728T103000
URL:https://uwaterloo.ca/artificial-intelligence-group/events/ai-seminar-in
 vestigation-word-sense-disambiguation-improving
LOCATION:DC - William G. Davis Computer Research Centre 200 University Aven
 ue West 1304 Waterloo ON N2L 3G1 Canada
SUMMARY:AI seminar: An investigation of word sense disambiguation for\nimpr
 oving lexical chaining
CLASS:PUBLIC
DESCRIPTION:Speaker: Mattt Enns\n\nFor my Masters thesis I researched the e
 ffects of word sense\ndisambiguation on lexical chains. A lexical chain is
  a sequence of\nwords in a document that are semantically related (i.e.\, 
 related in\nmeaning).
DTSTAMP:20260310T213611Z
END:VEVENT
END:VCALENDAR