BEGIN:VCALENDAR
VERSION:2.0
PRODID:-//Drupal iCal API//EN
X-WR-CALNAME:Events items teaser
X-WR-TIMEZONE:America/Toronto
BEGIN:VTIMEZONE
TZID:America/Toronto
X-LIC-LOCATION:America/Toronto
BEGIN:DAYLIGHT
TZNAME:EDT
TZOFFSETFROM:-0500
TZOFFSETTO:-0400
DTSTART:20060402T070000
END:DAYLIGHT
BEGIN:STANDARD
TZNAME:EST
TZOFFSETFROM:-0400
TZOFFSETTO:-0500
DTSTART:20051030T060000
END:STANDARD
END:VTIMEZONE
BEGIN:VEVENT
UID:69c2327b1d4f2
DTSTART;TZID=America/Toronto:20060804T120000
SEQUENCE:0
TRANSP:TRANSPARENT
DTEND;TZID=America/Toronto:20060804T120000
URL:https://uwaterloo.ca/artificial-intelligence-group/events/ai-seminar-pr
 eliminary-report-mathbrush-pen-math-system
LOCATION:MC - Mathematics &amp; Computer Building 200 University Avenue West 23
 06C (AI lab) Waterloo ON N2L 3G1 Canada
SUMMARY:AI seminar: A preliminary report on the MathBrush pen-math system
CLASS:PUBLIC
DESCRIPTION:Speaker: David Tausky\n\nIn this talk\, I will describe our pro
 totype pen-based system for\nentering and manipulating mathematical expres
 sions\, currently called\nMathBrush.
DTSTAMP:20260324T064307Z
END:VEVENT
END:VCALENDAR