BEGIN:VCALENDAR
VERSION:2.0
PRODID:-//Drupal iCal API//EN
X-WR-CALNAME:Events items teaser
X-WR-TIMEZONE:America/Toronto
BEGIN:VTIMEZONE
TZID:America/Toronto
X-LIC-LOCATION:America/Toronto
BEGIN:DAYLIGHT
TZNAME:EDT
TZOFFSETFROM:-0500
TZOFFSETTO:-0400
DTSTART:20060402T070000
END:DAYLIGHT
BEGIN:STANDARD
TZNAME:EST
TZOFFSETFROM:-0400
TZOFFSETTO:-0500
DTSTART:20051030T060000
END:STANDARD
END:VTIMEZONE
BEGIN:VEVENT
UID:69b3e42fb8f3f
DTSTART;TZID=America/Toronto:20060811T113000
SEQUENCE:0
TRANSP:TRANSPARENT
DTEND;TZID=America/Toronto:20060811T113000
URL:https://uwaterloo.ca/artificial-intelligence-group/events/ai-seminar-co
 mparative-study-sequential-and-simultaneous
LOCATION:DC - William G. Davis Computer Research Centre 200 University Aven
 ue West 2306C (AI lab) Waterloo ON N2L 3G1 Canada
SUMMARY:AI seminar: A comparative study of sequential and simultaneous\nauc
 tions
CLASS:PUBLIC
DESCRIPTION:Speaker: Shaheen Fatima\n\nSequential and simultaneous auctions
  are two important mechanisms for\nbuying and selling multiple objects. Th
 ese two mechanisms yield\ndifferent outcomes (i.e.\, different surpluses\,
  different revenues\, and\nalso different profits to the winning bidders).
  Given this\, we compare\nthe outcomes for the sequential and simultaneous
  mechanisms for the\nfollowing scenario.
DTSTAMP:20260313T101719Z
END:VEVENT
END:VCALENDAR