BEGIN:VCALENDAR
VERSION:2.0
PRODID:-//Drupal iCal API//EN
X-WR-CALNAME:Events items teaser
X-WR-TIMEZONE:America/Toronto
BEGIN:VTIMEZONE
TZID:America/Toronto
X-LIC-LOCATION:America/Toronto
BEGIN:DAYLIGHT
TZNAME:EDT
TZOFFSETFROM:-0500
TZOFFSETTO:-0400
DTSTART:20060402T070000
END:DAYLIGHT
BEGIN:STANDARD
TZNAME:EST
TZOFFSETFROM:-0400
TZOFFSETTO:-0500
DTSTART:20051030T060000
END:STANDARD
END:VTIMEZONE
BEGIN:VEVENT
UID:69bae237f0ca2
DTSTART;TZID=America/Toronto:20060929T123000
SEQUENCE:0
TRANSP:TRANSPARENT
DTEND;TZID=America/Toronto:20060929T123000
URL:https://uwaterloo.ca/artificial-intelligence-group/events/ai-seminar-tr
 anslator-translator-language-rules
LOCATION:DC - William G. Davis Computer Research Centre 200 University Aven
 ue West 2306C (AI lab) Waterloo ON N2L 3G1 Canada
SUMMARY:AI seminar: TRANSLATOR: A TRANSlator from LAnguage TO Rules
CLASS:PUBLIC
DESCRIPTION:Speaker: David Hirtle\n\nOne explanation as to why the Semantic
  Web has not quite caught on yet\nis that the barrier to entry is too high
 . This talk describes\nTRANSLATOR\, a free tool available as a Java Web St
 art application\ndesigned to allow anyone\, even non-experts\, to write fa
 cts and rules\nin formal representation for use on the Semantic Web.
DTSTAMP:20260318T173448Z
END:VEVENT
END:VCALENDAR