BEGIN:VCALENDAR
VERSION:2.0
PRODID:-//Drupal iCal API//EN
X-WR-CALNAME:Events items teaser
X-WR-TIMEZONE:America/Toronto
BEGIN:VTIMEZONE
TZID:America/Toronto
X-LIC-LOCATION:America/Toronto
BEGIN:DAYLIGHT
TZNAME:EDT
TZOFFSETFROM:-0500
TZOFFSETTO:-0400
DTSTART:20060402T070000
END:DAYLIGHT
BEGIN:STANDARD
TZNAME:EST
TZOFFSETFROM:-0400
TZOFFSETTO:-0500
DTSTART:20051030T060000
END:STANDARD
END:VTIMEZONE
BEGIN:VEVENT
UID:69bc33ec6e929
DTSTART;TZID=America/Toronto:20061006T113000
SEQUENCE:0
TRANSP:TRANSPARENT
DTEND;TZID=America/Toronto:20061006T113000
URL:https://uwaterloo.ca/artificial-intelligence-group/events/ai-seminar-se
 mi-supervised-conditional-random-fields
LOCATION:DC - William G. Davis Computer Research Centre 200 University Aven
 ue West 2306C (AI lab) Waterloo ON N2L 3G1 Canada
SUMMARY:AI seminar: Semi-supervised conditional random fields for improved\
 nsequence segmentation and labeling
CLASS:PUBLIC
DESCRIPTION:Speaker: Feng Jiao\n\nWe present a new semi-supervised training
  procedure for conditional\nrandom fields (CRFs) that can be used to train
  sequence segmentors and\nlabelers from a combination of labeled and unlab
 eled training data.
DTSTAMP:20260319T173540Z
END:VEVENT
END:VCALENDAR