BEGIN:VCALENDAR
VERSION:2.0
PRODID:-//Drupal iCal API//EN
X-WR-CALNAME:Events items teaser
X-WR-TIMEZONE:America/Toronto
BEGIN:VTIMEZONE
TZID:America/Toronto
X-LIC-LOCATION:America/Toronto
BEGIN:DAYLIGHT
TZNAME:EDT
TZOFFSETFROM:-0500
TZOFFSETTO:-0400
DTSTART:20060402T070000
END:DAYLIGHT
BEGIN:STANDARD
TZNAME:EST
TZOFFSETFROM:-0400
TZOFFSETTO:-0500
DTSTART:20051030T060000
END:STANDARD
END:VTIMEZONE
BEGIN:VEVENT
UID:69c2328e63b69
DTSTART;TZID=America/Toronto:20061013T123000
SEQUENCE:0
TRANSP:TRANSPARENT
DTEND;TZID=America/Toronto:20061013T123000
URL:https://uwaterloo.ca/artificial-intelligence-group/events/ai-seminar-ex
 ploring-user-centric-clickstream-data
LOCATION:DC - William G. Davis Computer Research Centre 200 University Aven
 ue West 2306C (AI lab) Waterloo ON N2L 3G1 Canada
SUMMARY:AI seminar: Exploring user-centric clickstream data for\npersonaliz
 ation
CLASS:PUBLIC
DESCRIPTION:Speaker: Jiye Li\n\nClickstream data collected across multiple 
 websites (user-centric\ndata) captures users' browsing behaviors\, interes
 ts and preferences\nmore than clickstream data collected from individual w
 ebsites\n(site-centric data). For example\, we would expect that we could 
 better\nmodel and predict the intentions of users who we know not only\nse
 arched on google but also visited certain shopping websites\, than if\nwe 
 know only one of these pieces of information. Current research on\nclickst
 ream data analysis is mostly centered around site-centric data.
DTSTAMP:20260324T064326Z
END:VEVENT
END:VCALENDAR