BEGIN:VCALENDAR
VERSION:2.0
PRODID:-//Drupal iCal API//EN
X-WR-CALNAME:Events items teaser
X-WR-TIMEZONE:America/Toronto
BEGIN:VTIMEZONE
TZID:America/Toronto
X-LIC-LOCATION:America/Toronto
BEGIN:DAYLIGHT
TZNAME:EDT
TZOFFSETFROM:-0500
TZOFFSETTO:-0400
DTSTART:20060402T070000
END:DAYLIGHT
BEGIN:STANDARD
TZNAME:EST
TZOFFSETFROM:-0400
TZOFFSETTO:-0500
DTSTART:20051030T060000
END:STANDARD
END:VTIMEZONE
BEGIN:VEVENT
UID:69c232a2ed637
DTSTART;TZID=America/Toronto:20061020T123000
SEQUENCE:0
TRANSP:TRANSPARENT
DTEND;TZID=America/Toronto:20061020T123000
URL:https://uwaterloo.ca/artificial-intelligence-group/events/ai-seminar-im
 proved-familiarity-measurement-formalization
LOCATION:DC - William G. Davis Computer Research Centre 200 University Aven
 ue West 2306C (AI lab) Waterloo ON N2L 3G1 Canada
SUMMARY:AI seminar: An improved familiarity measurement for formalization o
 f\ntrust in e-commerce based multiagent systems
CLASS:PUBLIC
DESCRIPTION:Speaker: Jie Zhang\n\nFamiliarity between agents is often consi
 dered to be an important\nfactor in determining the level of trust. In ele
 ctronic marketplaces\,\ntrust is modeled\, for instance\, in order to allo
 w buying agents to\nmake effective selection of selling agents. In previou
 s research\,\nfamiliarity between two agents has been simply assumed to be
  the\nsimilarity between them\, which is fixed for the two agents.
DTSTAMP:20260324T064346Z
END:VEVENT
END:VCALENDAR