BEGIN:VCALENDAR
VERSION:2.0
PRODID:-//Drupal iCal API//EN
X-WR-CALNAME:Events items teaser
X-WR-TIMEZONE:America/Toronto
BEGIN:VTIMEZONE
TZID:America/Toronto
X-LIC-LOCATION:America/Toronto
BEGIN:DAYLIGHT
TZNAME:EDT
TZOFFSETFROM:-0500
TZOFFSETTO:-0400
DTSTART:20060402T070000
END:DAYLIGHT
BEGIN:STANDARD
TZNAME:EST
TZOFFSETFROM:-0400
TZOFFSETTO:-0500
DTSTART:20051030T060000
END:STANDARD
END:VTIMEZONE
BEGIN:VEVENT
UID:69c232a3635bd
DTSTART;TZID=America/Toronto:20061027T123000
SEQUENCE:0
TRANSP:TRANSPARENT
DTEND;TZID=America/Toronto:20061027T123000
URL:https://uwaterloo.ca/artificial-intelligence-group/events/ai-seminar-ev
 olution-multiple-states-machines-recognition
LOCATION:DC - William G. Davis Computer Research Centre 200 University Aven
 ue West 2306C (AI lab) Waterloo ON N2L 3G1 Canada
SUMMARY:AI seminar: Evolution of multiple states machines for recognition o
 f\nonline cursive handwriting
CLASS:PUBLIC
DESCRIPTION:Speaker: Saeed Hassanpour\n\nRecognition of cursive handwriting
 s such as Persian script is a hard\ntask as there is no fixed segmentation
  and simultaneous segmentation\nand recognition is required. We presents a
  novel comparison method for\nsuch tasks which is based on a Multiple Stat
 es Machine to perform\nrobust elastic comparison of small segments with hi
 gh speed through\ngeneration and maintenance of a set of concurrent possib
 le hypotheses.
DTSTAMP:20260324T064347Z
END:VEVENT
END:VCALENDAR