BEGIN:VCALENDAR
VERSION:2.0
PRODID:-//Drupal iCal API//EN
X-WR-CALNAME:Events items teaser
X-WR-TIMEZONE:America/Toronto
BEGIN:VTIMEZONE
TZID:America/Toronto
X-LIC-LOCATION:America/Toronto
BEGIN:DAYLIGHT
TZNAME:EDT
TZOFFSETFROM:-0500
TZOFFSETTO:-0400
DTSTART:20060402T070000
END:DAYLIGHT
BEGIN:STANDARD
TZNAME:EST
TZOFFSETFROM:-0400
TZOFFSETTO:-0500
DTSTART:20061029T060000
END:STANDARD
END:VTIMEZONE
BEGIN:VEVENT
UID:69c232a3cc5a3
DTSTART;TZID=America/Toronto:20061110T123000
SEQUENCE:0
TRANSP:TRANSPARENT
DTEND;TZID=America/Toronto:20061110T123000
URL:https://uwaterloo.ca/artificial-intelligence-group/events/ai-seminar-in
 tegrating-laws-and-norms-mas-architectures
LOCATION:DC - William G. Davis Computer Research Centre 200 University Aven
 ue West 2306C (AI lab) Waterloo ON N2L 3G1 Canada
SUMMARY:AI seminar: Integrating laws and norms into MAS architectures
CLASS:PUBLIC
DESCRIPTION:Speaker: Salvador Garcia-Martinez (McMaster University)\n\nThro
 ugh the development of Multi-Agent Systems\, different\narchitectures for 
 agent systems have emerged. They follow different\nmodels and standards\, 
 but at the same time they share something in\ncommon: elements and relatio
 ns. In this talk\, I will discuss different\nmulti-agent architectures tha
 t have been developed\, focusing mainly on\ntheir similarities and how the
 y have been implemented.
DTSTAMP:20260324T064347Z
END:VEVENT
END:VCALENDAR