BEGIN:VCALENDAR
VERSION:2.0
PRODID:-//Drupal iCal API//EN
X-WR-CALNAME:Events items teaser
X-WR-TIMEZONE:America/Toronto
BEGIN:VTIMEZONE
TZID:America/Toronto
X-LIC-LOCATION:America/Toronto
BEGIN:DAYLIGHT
TZNAME:EDT
TZOFFSETFROM:-0500
TZOFFSETTO:-0400
DTSTART:20060402T070000
END:DAYLIGHT
BEGIN:STANDARD
TZNAME:EST
TZOFFSETFROM:-0400
TZOFFSETTO:-0500
DTSTART:20061029T060000
END:STANDARD
END:VTIMEZONE
BEGIN:VEVENT
UID:69b6fea3c3575
DTSTART;TZID=America/Toronto:20061124T123000
SEQUENCE:0
TRANSP:TRANSPARENT
DTEND;TZID=America/Toronto:20061124T123000
URL:https://uwaterloo.ca/artificial-intelligence-group/events/ai-seminar-ru
 le-based-social-networking-expert-finding
LOCATION:DC - William G. Davis Computer Research Centre 200 University Aven
 ue West 2306C (AI lab) Waterloo ON N2L 3G1 Canada
SUMMARY:AI seminar: Rule-based social networking for expert finding
CLASS:PUBLIC
DESCRIPTION:Speaker: Harold Boley (University of New Brunswick and Institut
 e for\nInformation Technology\, National Research Council of Canada)\n\nTh
 e Semantic Web contributes to making AI mainstream. AI knowledge\nrepresen
 tations such as ontologies and rules can be used to formalize\nWeb metadat
 a vocabularies\, where constants\, classes\, and relations\ncarry (Uniform
  Resource Identifier) URIs. This permits AI reasoning\nover metadata both 
 for direct question answering and high-precision\ninformation (URI) retrie
 val.
DTSTAMP:20260315T184659Z
END:VEVENT
END:VCALENDAR