BEGIN:VCALENDAR
VERSION:2.0
PRODID:-//Drupal iCal API//EN
X-WR-CALNAME:Events items teaser
X-WR-TIMEZONE:America/Toronto
BEGIN:VTIMEZONE
TZID:America/Toronto
X-LIC-LOCATION:America/Toronto
BEGIN:DAYLIGHT
TZNAME:EDT
TZOFFSETFROM:-0500
TZOFFSETTO:-0400
DTSTART:20060402T070000
END:DAYLIGHT
BEGIN:STANDARD
TZNAME:EST
TZOFFSETFROM:-0400
TZOFFSETTO:-0500
DTSTART:20061029T060000
END:STANDARD
END:VTIMEZONE
BEGIN:VEVENT
UID:69c232af88365
DTSTART;TZID=America/Toronto:20061201T123000
SEQUENCE:0
TRANSP:TRANSPARENT
DTEND;TZID=America/Toronto:20061201T123000
URL:https://uwaterloo.ca/artificial-intelligence-group/events/ai-seminar-gl
 obal-reinforcement-learning
LOCATION:DC - William G. Davis Computer Research Centre 200 University Aven
 ue West 2306C (AI lab) Waterloo ON N2L 3G1 Canada
SUMMARY:AI seminar: Global reinforcement learning
CLASS:PUBLIC
DESCRIPTION:Speaker: Milen Pavlov\n\nWhen applying reinforcement learning t
 o real world problems it is\ndesirable to make use of any prior informatio
 n to speed up the\nlearning process. Unfortunately\, there does not exist 
 any framework\nfor encoding prior knowledge in RL nor developing general a
 lgorithms\nthat make use of it.
DTSTAMP:20260324T064359Z
END:VEVENT
END:VCALENDAR