BEGIN:VCALENDAR
VERSION:2.0
PRODID:-//Drupal iCal API//EN
X-WR-CALNAME:Events items teaser
X-WR-TIMEZONE:America/Toronto
BEGIN:VTIMEZONE
TZID:America/Toronto
X-LIC-LOCATION:America/Toronto
BEGIN:DAYLIGHT
TZNAME:EDT
TZOFFSETFROM:-0500
TZOFFSETTO:-0400
DTSTART:20060402T070000
END:DAYLIGHT
BEGIN:STANDARD
TZNAME:EST
TZOFFSETFROM:-0400
TZOFFSETTO:-0500
DTSTART:20061029T060000
END:STANDARD
END:VTIMEZONE
BEGIN:VEVENT
UID:69be31fc4b1ed
DTSTART;TZID=America/Toronto:20061208T123000
SEQUENCE:0
TRANSP:TRANSPARENT
DTEND;TZID=America/Toronto:20061208T123000
URL:https://uwaterloo.ca/artificial-intelligence-group/events/ai-seminar-jo
 urney-yaas-yet-another-adaptive-scheduler
LOCATION:DC - William G. Davis Computer Research Centre 200 University Aven
 ue West 2306C (AI lab) Waterloo ON N2L 3G1 Canada
SUMMARY:AI seminar: A journey to YAAS (Yet Another Adaptive Scheduler)
CLASS:PUBLIC
DESCRIPTION:Speaker: Edward Chrzanowski\n\nThis talk will present the path 
 I traversed from metaheuristics to\nparallel metaheuristics in the search 
 of a better scheduler for High\nPerformance Computing.
DTSTAMP:20260321T055156Z
END:VEVENT
END:VCALENDAR