BEGIN:VCALENDAR
VERSION:2.0
PRODID:-//Drupal iCal API//EN
X-WR-CALNAME:Events items teaser
X-WR-TIMEZONE:America/Toronto
BEGIN:VTIMEZONE
TZID:America/Toronto
X-LIC-LOCATION:America/Toronto
BEGIN:DAYLIGHT
TZNAME:EDT
TZOFFSETFROM:-0500
TZOFFSETTO:-0400
DTSTART:20050403T070000
END:DAYLIGHT
BEGIN:STANDARD
TZNAME:EST
TZOFFSETFROM:-0400
TZOFFSETTO:-0500
DTSTART:20051030T060000
END:STANDARD
END:VTIMEZONE
BEGIN:VEVENT
UID:69b79c707a83a
DTSTART;TZID=America/Toronto:20051125T113000
SEQUENCE:0
TRANSP:TRANSPARENT
DTEND;TZID=America/Toronto:20051125T113000
URL:https://uwaterloo.ca/artificial-intelligence-group/events/ai-seminar-la
 go-svm-and-rare-target-detection
LOCATION:DC - William G. Davis Computer Research Centre 200 University Aven
 ue West 2306C (AI lab) Waterloo ON N2L 3G1 Canada
SUMMARY:AI seminar: LAGO\, SVM and rare target detection
CLASS:PUBLIC
DESCRIPTION:Speaker: Mu Zhu (Statistics and Actuarial Sciences\, University
  of\nWaterloo)\n\nI shall describe a few projects in the area of rare targ
 et detection.
DTSTAMP:20260316T060016Z
END:VEVENT
END:VCALENDAR