BEGIN:VCALENDAR
VERSION:2.0
PRODID:-//Drupal iCal API//EN
X-WR-CALNAME:Events items teaser
X-WR-TIMEZONE:America/Toronto
BEGIN:VTIMEZONE
TZID:America/Toronto
X-LIC-LOCATION:America/Toronto
BEGIN:DAYLIGHT
TZNAME:EDT
TZOFFSETFROM:-0500
TZOFFSETTO:-0400
DTSTART:20050403T070000
END:DAYLIGHT
BEGIN:STANDARD
TZNAME:EST
TZOFFSETFROM:-0400
TZOFFSETTO:-0500
DTSTART:20051030T060000
END:STANDARD
END:VTIMEZONE
BEGIN:VEVENT
UID:69ba1ef53be11
DTSTART;TZID=America/Toronto:20051130T120000
SEQUENCE:0
TRANSP:TRANSPARENT
DTEND;TZID=America/Toronto:20051130T120000
URL:https://uwaterloo.ca/artificial-intelligence-group/events/ai-seminar-co
 nvex-hidden-markov-models
LOCATION:DC - William G. Davis Computer Research Centre 200 University Aven
 ue West 2306C (AI lab) Waterloo ON N2L 3G1 Canada
SUMMARY:AI seminar: Convex hidden Markov models
CLASS:PUBLIC
DESCRIPTION:Speaker: Linli Xu\n\nIn this talk\, I will discuss a new unsupe
 rvised algorithm for training\nhidden Markov models that is convex and avo
 ids the use of EM.
DTSTAMP:20260318T034141Z
END:VEVENT
END:VCALENDAR