BEGIN:VCALENDAR
VERSION:2.0
PRODID:-//Drupal iCal API//EN
X-WR-CALNAME:Events items teaser
X-WR-TIMEZONE:America/Toronto
BEGIN:VTIMEZONE
TZID:America/Toronto
X-LIC-LOCATION:America/Toronto
BEGIN:DAYLIGHT
TZNAME:EDT
TZOFFSETFROM:-0500
TZOFFSETTO:-0400
DTSTART:20050403T070000
END:DAYLIGHT
BEGIN:STANDARD
TZNAME:EST
TZOFFSETFROM:-0400
TZOFFSETTO:-0500
DTSTART:20051030T060000
END:STANDARD
END:VTIMEZONE
BEGIN:VEVENT
UID:69ba1ef218bd7
DTSTART;TZID=America/Toronto:20051209T113000
SEQUENCE:0
TRANSP:TRANSPARENT
DTEND;TZID=America/Toronto:20051209T113000
URL:https://uwaterloo.ca/artificial-intelligence-group/events/ai-seminar-sp
 ecialized-multi-agents-learning-system
LOCATION:DC - William G. Davis Computer Research Centre 200 University Aven
 ue West 2306C (AI lab) Waterloo ON N2L 3G1 Canada
SUMMARY:AI seminar: Specialized multi-agents learning system
CLASS:PUBLIC
DESCRIPTION:Speaker: Nasser Mooman\n\nWith the increasing amount of availab
 le information sources for\nlearners\, the need for systems that can effec
 tively and efficiently\nmine\, retrieve\, and process such information has
  become critical.
DTSTAMP:20260318T034138Z
END:VEVENT
END:VCALENDAR