BEGIN:VCALENDAR
VERSION:2.0
PRODID:-//Drupal iCal API//EN
X-WR-CALNAME:Events items teaser
X-WR-TIMEZONE:America/Toronto
BEGIN:VTIMEZONE
TZID:America/Toronto
X-LIC-LOCATION:America/Toronto
BEGIN:DAYLIGHT
TZNAME:EDT
TZOFFSETFROM:-0500
TZOFFSETTO:-0400
DTSTART:20180311T070000
END:DAYLIGHT
BEGIN:STANDARD
TZNAME:EST
TZOFFSETFROM:-0400
TZOFFSETTO:-0500
DTSTART:20171105T060000
END:STANDARD
END:VTIMEZONE
BEGIN:VEVENT
UID:69bbbf7608805
DTSTART;TZID=America/Toronto:20180320T103000
SEQUENCE:0
TRANSP:TRANSPARENT
DTEND;TZID=America/Toronto:20180320T103000
URL:https://uwaterloo.ca/artificial-intelligence-group/events/ai-seminar-in
 formation-double-edged-sword-strategic
LOCATION:DC - William G. Davis Computer Research Centre 200 University Aven
 ue West 1304 Waterloo ON N2L 3G1 Canada
SUMMARY:AI Seminar: Information as A Double-Edged Sword in Strategic\nInter
 actions
CLASS:PUBLIC
DESCRIPTION:Speaker: Haifeng Xu\, University of Southern California\n\nStra
 tegic interactions among self-interested agents (a.k.a.\, games)\nare ubiq
 uitous\, ranging from economic activity in daily life and the\nInternet to
  defender-adversary interactions in national security.  A\nkey variable i
 nfluencing agents' strategic decision making is the\ninformation they have
  available about their environment as well as the\npreferences and actions
  of others. In this talk\, I will describe my\nwork on computational quest
 ions pertaining to the role of information\nin games.
DTSTAMP:20260319T091846Z
END:VEVENT
END:VCALENDAR