BEGIN:VCALENDAR
VERSION:2.0
PRODID:-//Drupal iCal API//EN
X-WR-CALNAME:Events items teaser
X-WR-TIMEZONE:America/Toronto
BEGIN:VTIMEZONE
TZID:America/Toronto
X-LIC-LOCATION:America/Toronto
BEGIN:DAYLIGHT
TZNAME:EDT
TZOFFSETFROM:-0500
TZOFFSETTO:-0400
DTSTART:20170312T070000
END:DAYLIGHT
BEGIN:STANDARD
TZNAME:EST
TZOFFSETFROM:-0400
TZOFFSETTO:-0500
DTSTART:20171105T060000
END:STANDARD
END:VTIMEZONE
BEGIN:VEVENT
UID:69b6fe9684082
DTSTART;TZID=America/Toronto:20171129T110000
SEQUENCE:0
TRANSP:TRANSPARENT
DTEND;TZID=America/Toronto:20171129T110000
URL:https://uwaterloo.ca/artificial-intelligence-group/events/phd-seminar-m
 any-faces-computer-generated-poetry
LOCATION:DC - William G. Davis Computer Research Centre 200 University Aven
 ue West 3323 Waterloo ON N2L 3G1 Canada
SUMMARY:PhD Seminar: The Many Faces of Computer-generated Poetry
CLASS:PUBLIC
DESCRIPTION:Speaker: Carolyn Lamb\, PhD Candidate\n\nArtists\, hobbyists\, 
 cognitive scientists\, and computer scientists are\nall trying their hands
  at writing computer programs that generate\npoetry. Why? What do these po
 ems look like\, and how are they made?\nWhat might meta-poetry writers on 
 both sides of the art-science\nspectrum learn from each other?
DTSTAMP:20260315T184646Z
END:VEVENT
END:VCALENDAR