BEGIN:VCALENDAR
VERSION:2.0
PRODID:-//Drupal iCal API//EN
X-WR-CALNAME:Events items teaser
X-WR-TIMEZONE:America/Toronto
BEGIN:VTIMEZONE
TZID:America/Toronto
X-LIC-LOCATION:America/Toronto
BEGIN:DAYLIGHT
TZNAME:EDT
TZOFFSETFROM:-0500
TZOFFSETTO:-0400
DTSTART:20170312T070000
END:DAYLIGHT
BEGIN:STANDARD
TZNAME:EST
TZOFFSETFROM:-0400
TZOFFSETTO:-0500
DTSTART:20161106T060000
END:STANDARD
END:VTIMEZONE
BEGIN:VEVENT
UID:69c23325c3a8c
DTSTART;TZID=America/Toronto:20170928T140000
SEQUENCE:0
TRANSP:TRANSPARENT
DTEND;TZID=America/Toronto:20170928T140000
URL:https://uwaterloo.ca/artificial-intelligence-group/events/phd-seminar-i
 nterdisciplinary-evaluations-computational
LOCATION:DC - William G. Davis Computer Research Centre 200 University Aven
 ue West 3317 Waterloo ON N2L 3G1 Canada
SUMMARY:PhD Seminar: Interdisciplinary Evaluations For Computational\nCreat
 ivity
CLASS:PUBLIC
DESCRIPTION:Speaker: Carolyn Lamb\, PhD Candidate\n\nComputer software has 
 frequently been used to perform creative tasks\,\nsuch as generating artwo
 rk or discovering new mathematical proofs. But\nif a computer is intended 
 to be creative\, how do we measure its\nperformance or decide if it is doi
 ng a good job?
DTSTAMP:20260324T064557Z
END:VEVENT
END:VCALENDAR