BEGIN:VCALENDAR
VERSION:2.0
PRODID:-//Drupal iCal API//EN
X-WR-CALNAME:Events items teaser
X-WR-TIMEZONE:America/Toronto
BEGIN:VTIMEZONE
TZID:America/Toronto
X-LIC-LOCATION:America/Toronto
BEGIN:DAYLIGHT
TZNAME:EDT
TZOFFSETFROM:-0500
TZOFFSETTO:-0400
DTSTART:20170312T070000
END:DAYLIGHT
BEGIN:STANDARD
TZNAME:EST
TZOFFSETFROM:-0400
TZOFFSETTO:-0500
DTSTART:20161106T060000
END:STANDARD
END:VTIMEZONE
BEGIN:VEVENT
UID:69c23325d3acd
DTSTART;TZID=America/Toronto:20170801T110000
SEQUENCE:0
TRANSP:TRANSPARENT
DTEND;TZID=America/Toronto:20170801T110000
URL:https://uwaterloo.ca/artificial-intelligence-group/events/phd-seminar-p
 rocedurally-rhetorical-verb-centric-frame
LOCATION:DC - William G. Davis Computer Research Centre 200 University Aven
 ue West 3323 Waterloo ON N2L 3G1 Canada
SUMMARY:PhD Seminar: Procedurally Rhetorical Verb-Centric Frame Semantics a
 s a\nKnowledge Representation for Automated Argumentation Analysis
CLASS:PUBLIC
DESCRIPTION:Speaker: Mohammed Alliheedi\, PhD Candidate\n\nOver the past de
 cade\, the focus on argumentation mining has been\ngrowing significantly i
 n different areas of Artificial Intelligence\n(AI) research. The incentive
  to build Natural Language Processing\n(NLP) systems to automatically iden
 tify and analyze argumentative\ncomponents in various genres of texts has 
 increased because knowledge\nof argumentative structure facilitates variou
 s tasks such as text\nsummarization and opinion mining for commercial purp
 oses.
DTSTAMP:20260324T064557Z
END:VEVENT
END:VCALENDAR