BEGIN:VCALENDAR
VERSION:2.0
PRODID:-//Drupal iCal API//EN
X-WR-CALNAME:Events items teaser
X-WR-TIMEZONE:America/Toronto
BEGIN:VTIMEZONE
TZID:America/Toronto
X-LIC-LOCATION:America/Toronto
BEGIN:DAYLIGHT
TZNAME:EDT
TZOFFSETFROM:-0500
TZOFFSETTO:-0400
DTSTART:20170312T070000
END:DAYLIGHT
BEGIN:STANDARD
TZNAME:EST
TZOFFSETFROM:-0400
TZOFFSETTO:-0500
DTSTART:20161106T060000
END:STANDARD
END:VTIMEZONE
BEGIN:VEVENT
UID:69b5a472a2b22
DTSTART;TZID=America/Toronto:20170804T113000
SEQUENCE:0
TRANSP:TRANSPARENT
DTEND;TZID=America/Toronto:20170804T113000
URL:https://uwaterloo.ca/artificial-intelligence-group/events/phd-seminar-i
 mproved-vision-based-web-page-segmentation
LOCATION:DC - William G. Davis Computer Research Centre 200 University Aven
 ue West 2306C Waterloo ON N2L 3G1 Canada
SUMMARY:PhD Seminar: An improved vision-based web page segmentation algorit
 hm\nand methodology for its validation with a user study for older adults
CLASS:PUBLIC
DESCRIPTION:Speaker: Michael Cormier\, PhD Candidate\n\nIn this talk I will
  present recent advances in our vision-based web\npage segmentation method
 . This method is an edge-based\, Bayesian image\nsegmentation algorithm\, 
 capable of estimating the semantic structure\nof a web page from an image 
 of the page.
DTSTAMP:20260314T180954Z
END:VEVENT
END:VCALENDAR