BEGIN:VCALENDAR
VERSION:2.0
PRODID:-//Drupal iCal API//EN
X-WR-CALNAME:Events items teaser
X-WR-TIMEZONE:America/Toronto
BEGIN:VTIMEZONE
TZID:America/Toronto
X-LIC-LOCATION:America/Toronto
BEGIN:DAYLIGHT
TZNAME:EDT
TZOFFSETFROM:-0500
TZOFFSETTO:-0400
DTSTART:20170312T070000
END:DAYLIGHT
BEGIN:STANDARD
TZNAME:EST
TZOFFSETFROM:-0400
TZOFFSETTO:-0500
DTSTART:20161106T060000
END:STANDARD
END:VTIMEZONE
BEGIN:VEVENT
UID:69c2333183f6e
DTSTART;TZID=America/Toronto:20170721T110000
SEQUENCE:0
TRANSP:TRANSPARENT
DTEND;TZID=America/Toronto:20170721T110000
URL:https://uwaterloo.ca/artificial-intelligence-group/events/phd-seminar-d
 eep-active-learning-dialogue-generation
LOCATION:DC - William G. Davis Computer Research Centre 200 University Aven
 ue West 2306C Waterloo ON N2L 3G1 Canada
SUMMARY:PhD Seminar: Deep Active Learning for Dialogue Generation
CLASS:PUBLIC
DESCRIPTION:Speaker: Nabiha Asghar\, PhD Candidate\n\nWe propose an online\
 , end-to-end\, neural generative conversational\nmodel for open-domain dia
 logue. It is trained using a unique\ncombination of offline two-phase supe
 rvised learning and online\nhuman-in-the-loop active learning.
DTSTAMP:20260324T064609Z
END:VEVENT
END:VCALENDAR