BEGIN:VCALENDAR
VERSION:2.0
PRODID:-//Drupal iCal API//EN
X-WR-CALNAME:Events items teaser
X-WR-TIMEZONE:America/Toronto
BEGIN:VTIMEZONE
TZID:America/Toronto
X-LIC-LOCATION:America/Toronto
BEGIN:DAYLIGHT
TZNAME:EDT
TZOFFSETFROM:-0500
TZOFFSETTO:-0400
DTSTART:20170312T070000
END:DAYLIGHT
BEGIN:STANDARD
TZNAME:EST
TZOFFSETFROM:-0400
TZOFFSETTO:-0500
DTSTART:20161106T060000
END:STANDARD
END:VTIMEZONE
BEGIN:VEVENT
UID:69b08314740ac
DTSTART;TZID=America/Toronto:20170707T110000
SEQUENCE:0
TRANSP:TRANSPARENT
DTEND;TZID=America/Toronto:20170707T110000
URL:https://uwaterloo.ca/artificial-intelligence-group/events/ai-seminar-ai
 -personalized-learning-environment
LOCATION:DC - William G. Davis Computer Research Centre 200 University Aven
 ue West 1331 Waterloo ON N2L 3G1 Canada
SUMMARY:AI Seminar: AI in a Personalized Learning Environment
CLASS:PUBLIC
DESCRIPTION:Speaker: Bowen Hui\, University of British Columbia\, Okanagan 
 Campus\n\nThere has been much discussion on transforming the learning\nenv
 ironment for higher education institutions from the perspective of\neducat
 ors. In this talk\, I will outline what students report as their\nprioriti
 es in a personalized learning environment.
DTSTAMP:20260310T204612Z
END:VEVENT
END:VCALENDAR