BEGIN:VCALENDAR
VERSION:2.0
PRODID:-//Drupal iCal API//EN
X-WR-CALNAME:Events items teaser
X-WR-TIMEZONE:America/Toronto
BEGIN:VTIMEZONE
TZID:America/Toronto
X-LIC-LOCATION:America/Toronto
BEGIN:DAYLIGHT
TZNAME:EDT
TZOFFSETFROM:-0500
TZOFFSETTO:-0400
DTSTART:20170312T070000
END:DAYLIGHT
BEGIN:STANDARD
TZNAME:EST
TZOFFSETFROM:-0400
TZOFFSETTO:-0500
DTSTART:20161106T060000
END:STANDARD
END:VTIMEZONE
BEGIN:VEVENT
UID:69c2334f522b3
DTSTART;TZID=America/Toronto:20170620T110000
SEQUENCE:0
TRANSP:TRANSPARENT
DTEND;TZID=America/Toronto:20170620T110000
URL:https://uwaterloo.ca/artificial-intelligence-group/events/phd-seminar-b
 iologically-constrained-model-semantic-memory
LOCATION:DC - William G. Davis Computer Research Centre 200 University Aven
 ue West 2310 Waterloo ON N2L 3G1 Canada
SUMMARY:PhD Seminar: A Biologically Constrained Model of Semantic Memory\nS
 earch
CLASS:PUBLIC
DESCRIPTION:Speaker: Ivana Kajic\, PhD Candidate\n\nThe semantic fluency ta
 sk has been used to understand the effects of\nsemantic relationships on h
 uman memory search. A variety of\ncomputational models have been proposed 
 that explain human behavioral\ndata\, yet it remains unclear how millions 
 of spiking neurons work in\nunison to realize the cognitive processes invo
 lved in memory search.
DTSTAMP:20260324T064639Z
END:VEVENT
END:VCALENDAR